BEGIN:VCALENDAR
VERSION:2.0
PRODID:-//Promotorres - ECPv6.15.20//NONSGML v1.0//EN
CALSCALE:GREGORIAN
METHOD:PUBLISH
X-WR-CALNAME:Promotorres
X-ORIGINAL-URL:https://promotorres.pt
X-WR-CALDESC:Eventos para Promotorres
REFRESH-INTERVAL;VALUE=DURATION:PT1H
X-Robots-Tag:noindex
X-PUBLISHED-TTL:PT1H
BEGIN:VTIMEZONE
TZID:UTC
BEGIN:STANDARD
TZOFFSETFROM:+0000
TZOFFSETTO:+0000
TZNAME:UTC
DTSTART:20240101T000000
END:STANDARD
END:VTIMEZONE
BEGIN:VEVENT
DTSTART;TZID=UTC:20251220T160000
DTEND;TZID=UTC:20251220T173000
DTSTAMP:20260425T102926
CREATED:20251203T104329Z
LAST-MODIFIED:20251203T130035Z
UID:10000364-1766246400-1766251800@promotorres.pt
SUMMARY:Oficina Claustrophonia | Explorar instrumentos\, histórias e identidades musicais
DESCRIPTION:Integrada na mostra “Claustrophonia”\, patente na Sala 3 da Paços – Galeria Municipal de Torres Vedras\, entre 19 e 20 de dezembro\, esta oficina convida os visitantes a embarcar numa viagem sonora\, pelas culturas do Atlântico ao Mediterrâneo\, e pelos Balcãs. Ao longo da atividade\, o público poderá\, não só observar de perto instrumentos musicais tradicionais únicos\, como também ouvi-los\, interpretados ao vivo pelos músicos da Associação Musicálareira. \nCada “ilha” temática apresenta instrumentos acompanhados de indumentárias e elementos simbólicos das respetivas áreas culturais\, enriquecidos por explicações sobre a história\, a função e o contexto musical de cada peça – uma oportunidade imersiva para descobrir tradições\, sonoridades e identidades musicais de várias partes do mundo. \n\n\nOrientação: Associação Musicálareira \nInscrições: 965 705 922 | musicalareira@gmail.com
URL:https://promotorres.pt/evento/oficina-claustrophonia-explorar-instrumentos-historias-e-identidades-musicais-2/
LOCATION:Paços – Galeria Municipal de Torres Vedras
CATEGORIES:Este Natal compre no Comércio Tradicional
ATTACH;FMTTYPE=image/jpeg:https://promotorres.pt/wp-content/uploads/2025/12/musicalareiradez1-1_w847.jpg
END:VEVENT
BEGIN:VEVENT
DTSTART;TZID=UTC:20251219T170000
DTEND;TZID=UTC:20251219T183000
DTSTAMP:20260425T102926
CREATED:20251203T104217Z
LAST-MODIFIED:20251203T104243Z
UID:10000363-1766163600-1766169000@promotorres.pt
SUMMARY:Oficina Claustrophonia | Explorar instrumentos\, histórias e identidades musicais
DESCRIPTION:Integrada na mostra “Claustrophonia”\, patente na Sala 3 da Paços – Galeria Municipal de Torres Vedras\, entre 19 e 20 de dezembro\, esta oficina convida os visitantes a embarcar numa viagem sonora\, pelas culturas do Atlântico ao Mediterrâneo\, e pelos Balcãs. Ao longo da atividade\, o público poderá\, não só observar de perto instrumentos musicais tradicionais únicos\, como também ouvi-los\, interpretados ao vivo pelos músicos da Associação Musicálareira. \nCada “ilha” temática apresenta instrumentos acompanhados de indumentárias e elementos simbólicos das respetivas áreas culturais\, enriquecidos por explicações sobre a história\, a função e o contexto musical de cada peça – uma oportunidade imersiva para descobrir tradições\, sonoridades e identidades musicais de várias partes do mundo. \n\n\nOrientação: Associação Musicálareira \nInscrições: 965 705 922 | musicalareira@gmail.com
URL:https://promotorres.pt/evento/oficina-claustrophonia-explorar-instrumentos-historias-e-identidades-musicais/
LOCATION:Paços – Galeria Municipal de Torres Vedras
CATEGORIES:Este Natal compre no Comércio Tradicional
ATTACH;FMTTYPE=image/jpeg:https://promotorres.pt/wp-content/uploads/2025/12/musicalareiradez1-1_w847.jpg
END:VEVENT
END:VCALENDAR