BEGIN:VCALENDAR
VERSION:2.0
PRODID:-//Promotorres - ECPv6.15.20//NONSGML v1.0//EN
CALSCALE:GREGORIAN
METHOD:PUBLISH
X-ORIGINAL-URL:https://promotorres.pt
X-WR-CALDESC:Eventos para Promotorres
REFRESH-INTERVAL;VALUE=DURATION:PT1H
X-Robots-Tag:noindex
X-PUBLISHED-TTL:PT1H
BEGIN:VTIMEZONE
TZID:UTC
BEGIN:STANDARD
TZOFFSETFROM:+0000
TZOFFSETTO:+0000
TZNAME:UTC
DTSTART:20240101T000000
END:STANDARD
END:VTIMEZONE
BEGIN:VEVENT
DTSTART;TZID=UTC:20251220T103000
DTEND;TZID=UTC:20251220T103000
DTSTAMP:20260425T103106
CREATED:20251125T112528Z
LAST-MODIFIED:20251125T112609Z
UID:10000337-1766226600-1766226600@promotorres.pt
SUMMARY:O Melhor Presente do Mundo | Histórias em Família
DESCRIPTION:Contação da história “O melhor presente do mundo”\, seguida da realização de uma atividade de expressão plástica acerca da história contada. \n\n“Na manhã de Natal\, resta um presente por abrir debaixo da árvore de Ema e do Urso. Para seu espanto\, não é para nenhum dos dois. \nImbuídos de espírito natalício\, partem numa aventura para encontrar o seu verdadeiro destinatário. Estavam longe de imaginar que\, dentro do embrulho\, se encontrava o melhor presente do mundo!” \nDestinatários: 3 aos 10 anos (famílias)\nInfo e Inscrições: 261 933 543 | bibliotecasantacruz@cm-tvedras.pt\nConceção e Dinamização: Serviço Educativo da Biblioteca Municipal de Torres Vedras
URL:https://promotorres.pt/evento/o-melhor-presente-do-mundo-historias-em-familia/
LOCATION:Biblioteca Municipal de Santa Cruz
CATEGORIES:Este Natal compre no Comércio Tradicional
ATTACH;FMTTYPE=image/jpeg:https://promotorres.pt/wp-content/uploads/2025/11/o-melhorpresentedomundo.jpg
END:VEVENT
END:VCALENDAR